BEGIN:VCALENDAR
VERSION:2.0
PRODID:-//ChamberMaster//Event Calendar 2.0//EN
METHOD:PUBLISH
X-PUBLISHED-TTL:P3D
REFRESH-INTERVAL:P3D
CALSCALE:GREGORIAN
BEGIN:VEVENT
DTSTART:20170812T180000Z
DTEND:20170812T210000Z
X-MICROSOFT-CDO-ALLDAYEVENT:FALSE
SUMMARY:Vino and Vibes ft Monica Spears and Derek Worth at Hightower Creek Vineyards
DESCRIPTION:Monica and Derek are back today! Come on over for great wine and music this afternoon on the deck!\n\nVino & Vibes concert series runs every Saturday from 2:00   5:00pm. Admission is $10 and includes a glass of wine or tasting. Feel free to bring a picnic lunch or enjoy a cheese sampler. Hightower Creek is family and pet friendly\, so children and leashed dogs are welcome on the deck.
X-ALT-DESC;FMTTYPE=text/html:<p>Monica and Derek are back today! Come on over for great wine and music this afternoon on the deck!</p>\n\n<p>Vino &amp\; Vibes concert series runs every Saturday from 2:00 &ndash\; 5:00pm. Admission is $10 and includes a glass of wine or tasting. Feel free to bring a picnic lunch or enjoy a cheese sampler. Hightower Creek is family and pet friendly\, so children and leashed dogs are welcome on the deck.</p>\n
LOCATION:7150 Canaan Drive Hiawassee\, GA 30546
UID:e.256.75394
SEQUENCE:3
DTSTAMP:20260419T195654Z
URL:https://members.visitblairsvillega.com/events/details/vino-and-vibes-ft-monica-spears-and-derek-worth-at-hightower-creek-vineyards-08-12-2017-75394
END:VEVENT

END:VCALENDAR
