BEGIN:VCALENDAR
VERSION:2.0
PRODID:-//ChamberMaster//Event Calendar 2.0//EN
METHOD:PUBLISH
X-PUBLISHED-TTL:P3D
REFRESH-INTERVAL:P3D
CALSCALE:GREGORIAN
BEGIN:VEVENT
DTSTART:20170408T180000Z
DTEND:20170408T210000Z
X-MICROSOFT-CDO-ALLDAYEVENT:FALSE
SUMMARY:Vino and Vibes ft Monica Spears and Derek Worth at Hightower Creek Vineyards
DESCRIPTION:Monica Spears and Derek Worth entertain us today with jazz\, blues\, and soul sounds. You'll love Monica's sassy style and Derek's phenomenal guitar talents!! $10.00/person includes a glass of wine or tasting or $4.00 per person with the purchase of bottle of wine. Bring a picnic lunch! Cheese and snacks available. Children and leashed dogs welcome.
X-ALT-DESC;FMTTYPE=text/html:<span style="color:rgb(112\, 112\, 112)\; font-family:open sans\; font-size:14px">Monica Spears and Derek Worth entertain us today with jazz\, blues\, and soul sounds. You&rsquo\;ll love Monica&rsquo\;s sassy style and Derek&rsquo\;s phenomenal guitar talents!!&nbsp\;$10.00/person includes a glass of wine or tasting or $4.00 per person with the purchase of bottle of wine. Bring a picnic lunch!&nbsp\;Cheese and snacks available. Children and leashed dogs welcome.</span>
LOCATION:7150 Canaan Drive Hiawassee\, GA 30546
UID:e.256.69070
SEQUENCE:3
DTSTAMP:20260420T024637Z
URL:https://members.visitblairsvillega.com/events/details/vino-and-vibes-ft-monica-spears-and-derek-worth-at-hightower-creek-vineyards-69070
END:VEVENT

END:VCALENDAR
