BEGIN:VCALENDAR
VERSION:2.0
PRODID:-//ChamberMaster//Event Calendar 2.0//EN
METHOD:PUBLISH
X-PUBLISHED-TTL:P3D
REFRESH-INTERVAL:P3D
CALSCALE:GREGORIAN
BEGIN:VEVENT
DTSTART:20160604T180000Z
DTEND:20160604T210000Z
X-MICROSOFT-CDO-ALLDAYEVENT:FALSE
SUMMARY:Vino and Vibes ft Paul Constantine (Dr. Paul) at Hightower Creek Vineyards
DESCRIPTION:Come spend Saturday with one of our favorite performers\, "Dr." Paul Constantine. Dr. Paul (recently featured on The Voice) is an accomplished guitarist and vocalist\, with a repertoire that runs from classic country to blues and more. Don't miss your appointment with Dr. Paul!\n\nAdmission is $10 and includes a glass of wine or tasting. Feel free to bring a picnic lunch or enjoy a cheese sampler from Udderly Cool Dairy! Children are welcome\, as are leashed pets (on the deck).
X-ALT-DESC;FMTTYPE=text/html:<div>\n<p>Come spend Saturday with one of our favorite performers\, &ldquo\;Dr.&rdquo\; Paul Constantine. Dr. Paul (recently featured on&nbsp\;<em>The Voice</em>) is an accomplished guitarist and vocalist\, with a repertoire that runs from classic country to blues and more. Don&rsquo\;t miss your appointment with Dr. Paul!</p>\n\n<p>Admission is $10 and includes a glass of wine or tasting. Feel free to bring a picnic lunch or enjoy a cheese sampler from Udderly Cool Dairy! Children are welcome\, as are leashed pets (on the deck).</p>\n\n<div>&nbsp\;</div>\n</div>\n
LOCATION:7150 Canaan Drive Hiawassee GA 30546
UID:e.256.52695
SEQUENCE:3
DTSTAMP:20260420T204554Z
URL:https://members.visitblairsvillega.com/events/details/vino-and-vibes-ft-paul-constantine-dr-paul-at-hightower-creek-vineyards-06-04-2016-52695
END:VEVENT

END:VCALENDAR
