BEGIN:VCALENDAR
VERSION:2.0
PRODID:-//ChamberMaster//Event Calendar 2.0//EN
METHOD:PUBLISH
X-PUBLISHED-TTL:P3D
REFRESH-INTERVAL:P3D
CALSCALE:GREGORIAN
BEGIN:VEVENT
DTSTART:20170506T160000Z
DTEND:20170506T230000Z
X-MICROSOFT-CDO-ALLDAYEVENT:FALSE
SUMMARY:Vino and Vibes ft The Clubman at Hightower Creek Vineyards
DESCRIPTION:The soon to be famous Clubmen (aka Modern Vinyl) will be performing today. We love these guys and their soft rock sound! $10.00/person includes a glass of wine or tasting or $4.00 per person with the purchase of bottle of wine. Bring a picnic lunch! Cheese and snacks available. Children and leashed dogs welcome.
X-ALT-DESC;FMTTYPE=text/html:<span style="color:rgb(112\, 112\, 112)\; font-family:open sans\; font-size:14px">The soon to be famous Clubmen (aka Modern Vinyl) will be performing today. We love these guys and their soft rock sound!&nbsp\;$10.00/person includes a glass of wine or tasting or $4.00 per person with the purchase of bottle of wine. Bring a picnic lunch!&nbsp\;Cheese and snacks available. Children and leashed dogs welcome.</span>
LOCATION:7150 Canaan Drive Hiawassee\, GA 30546
UID:e.256.71416
SEQUENCE:3
DTSTAMP:20260420T021721Z
URL:https://members.visitblairsvillega.com/events/details/vino-and-vibes-ft-the-clubman-at-hightower-creek-vineyards-71416
END:VEVENT

END:VCALENDAR
