BEGIN:VCALENDAR
VERSION:2.0
PRODID:-//ChamberMaster//Event Calendar 2.0//EN
METHOD:PUBLISH
X-PUBLISHED-TTL:P3D
REFRESH-INTERVAL:P3D
CALSCALE:GREGORIAN
BEGIN:VEVENT
DTSTART:20160625T180000Z
DTEND:20160625T210000Z
X-MICROSOFT-CDO-ALLDAYEVENT:FALSE
SUMMARY:Vino and Vibes ft The Clubmen at Hightower Creek Vineyards
DESCRIPTION:Join us as we welcome The Clubmen to Hightower Creek Vineyards for Vino & Vibes. The guys are part of the VERY popular local band\, Modern Vinyl\, and we're excited to welcome them for the first time (and certainly not the last!).\n\nAdmission is $10 and includes a glass of wine or tasting. Feel free to bring a picnic lunch or enjoy a cheese sampler from Udderly Cool Dairy! Children are welcome\, as are leashed pets (on the deck).
X-ALT-DESC;FMTTYPE=text/html:<p>Join us as we welcome The Clubmen to Hightower Creek Vineyards for Vino &amp\; Vibes. The guys are part of the VERY popular local band\, Modern Vinyl\, and we&rsquo\;re excited to welcome them for the first time (and certainly not the last!).</p>\n\n<p>Admission is $10 and includes a glass of wine or tasting. Feel free to bring a picnic lunch or enjoy a cheese sampler from Udderly Cool Dairy! Children are welcome\, as are leashed pets (on the deck).</p>\n
LOCATION:7150 Canaan Drive Hiawassee\, GA 30546
UID:e.256.52700
SEQUENCE:3
DTSTAMP:20260420T204804Z
URL:https://members.visitblairsvillega.com/events/details/vino-and-vibes-ft-the-clubmen-at-hightower-creek-vineyards-06-25-2016-52700
END:VEVENT

END:VCALENDAR
