BEGIN:VCALENDAR
VERSION:2.0
PRODID:-//ChamberMaster//Event Calendar 2.0//EN
METHOD:PUBLISH
X-PUBLISHED-TTL:P3D
REFRESH-INTERVAL:P3D
CALSCALE:GREGORIAN
BEGIN:VEVENT
DTSTART:20170902T180000Z
DTEND:20170902T210000Z
X-MICROSOFT-CDO-ALLDAYEVENT:FALSE
SUMMARY:Vino and Vibes ft The Clubmen at Hightower Creek Vineyards
DESCRIPTION:The Clubmen (aka Modern Vinyl) are back for the holiday weekend! Come relax and enjoy this highly talented group today as you sit on the deck and enjoy HCV wine!\n\nVino & Vibes concert series runs every Saturday from 2:00   5:00pm. Admission is $10 and includes a glass of wine or tasting. Feel free to bring a picnic lunch or enjoy a cheese sampler. Hightower Creek is family and pet friendly\, so children and leashed dogs are welcome on the deck.
X-ALT-DESC;FMTTYPE=text/html:<p>The Clubmen (aka Modern Vinyl) are back for the holiday weekend! Come relax and enjoy this highly talented group today as you sit on the deck and enjoy HCV wine!</p>\n\n<p>Vino &amp\; Vibes concert series runs every Saturday from 2:00 &ndash\; 5:00pm. Admission is $10 and includes a glass of wine or tasting. Feel free to bring a picnic lunch or enjoy a cheese sampler. Hightower Creek is family and pet friendly\, so children and leashed dogs are welcome on the deck.</p>\n
LOCATION:7150 Canaan Drive Hiawassee\, GA 30546
UID:e.256.75730
SEQUENCE:3
DTSTAMP:20260419T180248Z
URL:https://members.visitblairsvillega.com/events/details/vino-and-vibes-ft-the-clubmen-at-hightower-creek-vineyards-09-02-2017-75730
END:VEVENT

END:VCALENDAR
