BEGIN:VCALENDAR
VERSION:2.0
PRODID:-//ChamberMaster//Event Calendar 2.0//EN
METHOD:PUBLISH
X-PUBLISHED-TTL:P3D
REFRESH-INTERVAL:P3D
CALSCALE:GREGORIAN
BEGIN:VEVENT
DTSTART:20170701T180000Z
DTEND:20170701T210000Z
X-MICROSOFT-CDO-ALLDAYEVENT:FALSE
SUMMARY:Vino and Vibes ft The Clubmen at Hightower Creek Vineyards
DESCRIPTION:We're kicking off the long weekend with live music by The Clubmen. Come join us on the deck!\n\nVino & Vibes concert series runs every Saturday from 2:00   5:00pm. Admission is $10 and includes a glass of wine or tasting. Feel free to bring a picnic lunch or enjoy a cheese sampler. Hightower Creek is family and pet friendly\, so children and leashed dogs are welcome on the deck.
X-ALT-DESC;FMTTYPE=text/html:<p>We&rsquo\;re kicking off the long weekend with live music by The Clubmen. Come join us on the deck!</p>\n\n<p>Vino &amp\; Vibes concert series runs every Saturday from 2:00 &ndash\; 5:00pm. Admission is $10 and includes a glass of wine or tasting. Feel free to bring a picnic lunch or enjoy a cheese sampler. Hightower Creek is family and pet friendly\, so children and leashed dogs are welcome on the deck.</p>\n
LOCATION:7150 Canaan Drive Hiawassee\, GA 30546
UID:e.256.74191
SEQUENCE:3
DTSTAMP:20260419T213410Z
URL:https://members.visitblairsvillega.com/events/details/vino-and-vibes-ft-the-clubmen-at-hightower-creek-vineyards-74191
END:VEVENT

END:VCALENDAR
