BEGIN:VCALENDAR
VERSION:2.0
PRODID:-//ChamberMaster//Event Calendar 2.0//EN
METHOD:PUBLISH
X-PUBLISHED-TTL:P3D
REFRESH-INTERVAL:P3D
CALSCALE:GREGORIAN
BEGIN:VEVENT
DTSTART:20170916T180000Z
DTEND:20170916T210000Z
X-MICROSOFT-CDO-ALLDAYEVENT:FALSE
SUMMARY:Vino and Vibes ft Tony Ford and Friends at Hightower Creek Vineyards
DESCRIPTION:Tony Ford and Friends will be joining us this afternoon. Tony is a very talented musician and you will not be disappointed! Come relax\, bring a picnic\, and enjoy some fine wine and music!\n\nVino & Vibes concert series runs every Saturday from 2:00   5:00pm. Admission is $10 and includes a glass of wine or tasting. Feel free to bring a picnic lunch or enjoy a cheese sampler. Hightower Creek is family and pet friendly\, so children and leashed dogs are welcome on the deck.
X-ALT-DESC;FMTTYPE=text/html:<p>Tony Ford and Friends will be joining us this afternoon. Tony is a very talented musician and you will not be disappointed! Come relax\, bring a picnic\, and enjoy some fine wine and music!</p>\n\n<p>Vino &amp\; Vibes concert series runs every Saturday from 2:00 &ndash\; 5:00pm. Admission is $10 and includes a glass of wine or tasting. Feel free to bring a picnic lunch or enjoy a cheese sampler. Hightower Creek is family and pet friendly\, so children and leashed dogs are welcome on the deck.</p>\n
LOCATION:7150 Canaan Drive Hiawassee\, GA 30546
UID:e.256.75989
SEQUENCE:3
DTSTAMP:20260419T180254Z
URL:https://members.visitblairsvillega.com/events/details/vino-and-vibes-ft-tony-ford-and-friends-at-hightower-creek-vineyards-09-16-2017-75989
END:VEVENT

END:VCALENDAR
