BEGIN:VCALENDAR
VERSION:2.0
PRODID:-//ChamberMaster//Event Calendar 2.0//EN
METHOD:PUBLISH
X-PUBLISHED-TTL:P3D
REFRESH-INTERVAL:P3D
CALSCALE:GREGORIAN
BEGIN:VEVENT
DTSTART:20170520T180000Z
DTEND:20170520T210000Z
X-MICROSOFT-CDO-ALLDAYEVENT:FALSE
SUMMARY:Vino and Vibes ft The Clubmen at Hightower Creek Vineyards
DESCRIPTION:Hiawassee's own Clubmen will serenade us with variety of old\, new and original sounds. Come join us as we celebrate the weekend!\n\nVino & Vibes concert series runs every Saturday from 2:00   5:00pm. Admission is $10 and includes a glass of wine or tasting. Feel free to bring a picnic lunch or enjoy a cheese sampler. Hightower Creek is family and pet friendly\, so children and leashed dogs are welcome on the deck.
X-ALT-DESC;FMTTYPE=text/html:<p><span style="color:rgb(112\, 112\, 112)\; font-family:open sans\; font-size:14px">Hiawassee&#39\;s own Clubmen will serenade us with variety of old\, new and original sounds. Come join us as we celebrate the weekend!</span></p>\n\n<p>Vino &amp\; Vibes concert series runs every Saturday from 2:00 &ndash\; 5:00pm. Admission is $10 and includes a glass of wine or tasting. Feel free to bring a picnic lunch or enjoy a cheese sampler. Hightower Creek is family and pet friendly\, so children and leashed dogs are welcome on the deck.</p>\n
LOCATION:7150 Canaan Drive Hiawassee\, GA 30546
UID:e.256.72366
SEQUENCE:3
DTSTAMP:20260420T021117Z
URL:https://members.visitblairsvillega.com/events/details/vino-and-vibes-ft-tyler-sloan-at-hightower-creek-vineyards-72366
END:VEVENT

END:VCALENDAR
