BEGIN:VCALENDAR
VERSION:2.0
PRODID:-//ChamberMaster//Event Calendar 2.0//EN
METHOD:PUBLISH
X-PUBLISHED-TTL:P3D
REFRESH-INTERVAL:P3D
CALSCALE:GREGORIAN
BEGIN:VEVENT
DTSTART:20150321T180000Z
DTEND:20150321T210000Z
X-MICROSOFT-CDO-ALLDAYEVENT:FALSE
SUMMARY:Vino and Vibes Spring Kick-Off at Hightower Creek Vineyards featuring Raven and Red!
DESCRIPTION:Spring has finally sprung and we are kicking off our Vino and Vibes series with the awesome duo\, Raven and Red\, performing from 2-5pm. They are an energetic and very talented couple whom we always enjoy! Come join us! $10.00 cover includes a glass of wine or wine tasting!
X-ALT-DESC;FMTTYPE=text/html:Spring has finally sprung and we are kicking off our Vino and Vibes series with the awesome duo\, Raven and Red\, performing from 2-5pm. They are an energetic and very talented couple whom we always enjoy! Come join us! $10.00 cover includes a glass of wine or wine tasting!
LOCATION:7150 Canaan Drive Hiawassee\, GA 30546
UID:e.256.36918
SEQUENCE:3
DTSTAMP:20260423T212545Z
URL:https://members.visitblairsvillega.com/events/details/vino-and-vibes-spring-kick-off-at-hightower-creek-vineyards-featuring-raven-and-red-03-21-2015-36918
END:VEVENT

END:VCALENDAR
