BEGIN:VCALENDAR
VERSION:2.0
PRODID:-//ChamberMaster//Event Calendar 2.0//EN
METHOD:PUBLISH
X-PUBLISHED-TTL:P3D
REFRESH-INTERVAL:P3D
CALSCALE:GREGORIAN
BEGIN:VEVENT
DTSTART:20151031T200000Z
DTEND:20151101T000000Z
X-MICROSOFT-CDO-ALLDAYEVENT:FALSE
SUMMARY:Vogel Halloween Festival
DESCRIPTION:Come trick-or-treat Vogel's haunted campground and stay for Halloween games\, crafts\, and costume contests.
X-ALT-DESC;FMTTYPE=text/html:<span style="font-size: medium\;"><span style="font-family: calibri\;">Come trick-or-treat Vogel&rsquo\;s haunted campground and stay for Halloween games\, crafts\, and costume contests.</span></span><br />\n&nbsp\;
LOCATION:Vogel State Park\, 7485 Vogel State Park Rd.\, Blairsville
UID:e.256.44408
SEQUENCE:3
DTSTAMP:20260423T102934Z
URL:https://members.visitblairsvillega.com/events/details/vogel-halloween-festival-10-31-2015-44408
END:VEVENT

END:VCALENDAR
