BEGIN:VCALENDAR
VERSION:2.0
PRODID:-//ChamberMaster//Event Calendar 2.0//EN
METHOD:PUBLISH
X-PUBLISHED-TTL:P3D
REFRESH-INTERVAL:P3D
CALSCALE:GREGORIAN
BEGIN:VEVENT
DTSTART:20141031T160000Z
DTEND:20141031T160000Z
X-MICROSOFT-CDO-ALLDAYEVENT:FALSE
SUMMARY:"Voice and Tell Tale Heart"
DESCRIPTION:Licklog Players Production of "Voice and Tell Tale Heart" Show dates are October 31st and November 1st and 2nd. Friday and Saturday night show are at 8pm and Sunday matinee is at 2:30pm. $15 or adults\, $13 for seniors and $8 for students. For more information call 828-389-8632 or e-mail licklogplayers@aol.com Licklog Players\, Inc 828-389-8632 www.licklogplayers.org
X-ALT-DESC;FMTTYPE=text/html:Licklog Players Production of &quot\;Voice and Tell Tale Heart&quot\; Show dates are October 31st and November 1st and 2nd. Friday and Saturday night show are at 8pm and Sunday matinee is at 2:30pm. $15 or adults\, $13 for seniors and $8 for students. For more information call 828-389-8632 or e-mail licklogplayers@aol.com Licklog Players\, Inc 828-389-8632 www.licklogplayers.org
LOCATION:Licklog Players Theater Hayesville\, NC
UID:e.256.27722
SEQUENCE:3
DTSTAMP:20260424T045437Z
URL:https://members.visitblairsvillega.com/events/details/voice-and-tell-tale-heart-10-31-2014-27722
END:VEVENT

END:VCALENDAR
