BEGIN:VCALENDAR
VERSION:2.0
PRODID:-//ChamberMaster//Event Calendar 2.0//EN
METHOD:PUBLISH
X-PUBLISHED-TTL:P3D
REFRESH-INTERVAL:P3D
CALSCALE:GREGORIAN
BEGIN:VEVENT
DTSTART:20170320T140000Z
DTEND:20170320T160000Z
X-MICROSOFT-CDO-ALLDAYEVENT:FALSE
SUMMARY:Volunteer Orientation for Gardeners
DESCRIPTION:Would you like to learn more about native plants AND make new friends while you are learning? The Preservation Committee of the Community Council will kick off the 2017 season with its Volunteer Orientation on March 20\, at 10 A.M.\, in the auditorium of the Georgia Mountain Research & Education Center. The orientation will be a great time to meet like-minded folks\, learn more about the native plants of this area and maybe even enjoy a snack. The Orientation will provide an introduction to the Preservation Committee and its projects. In addition\, Melissa Mattee\, Union County UGA Extension ANR Agent will give a short talk on insects.
X-ALT-DESC;FMTTYPE=text/html:Would you like to learn more about native plants AND make new friends while you are learning? The Preservation Committee of the Community Council will kick off the 2017 season with its Volunteer Orientation on March 20\, at 10 A.M.\, in the auditorium of the Georgia Mountain Research &amp\; Education Center. The orientation will be a great time to meet like-minded folks\, learn more about the native plants of this area and maybe even enjoy a snack. The Orientation will provide an introduction to the Preservation Committee and its projects. In addition\, Melissa Mattee\, Union County UGA Extension ANR Agent will give a short talk on insects.
LOCATION:The auditorium of the Georgia Mountain Research & Education Center\, 3 miles south of the Blairsville Square on Hwy 19/129.
UID:e.256.69120
SEQUENCE:3
DTSTAMP:20260420T060133Z
URL:https://members.visitblairsvillega.com/events/details/volunteer-orientation-for-gardeners-69120
END:VEVENT

END:VCALENDAR
