BEGIN:VCALENDAR
VERSION:2.0
PRODID:-//ChamberMaster//Event Calendar 2.0//EN
METHOD:PUBLISH
X-PUBLISHED-TTL:P3D
REFRESH-INTERVAL:P3D
CALSCALE:GREGORIAN
BEGIN:VEVENT
DTSTART:20150308T003000Z
DTEND:20150308T020000Z
X-MICROSOFT-CDO-ALLDAYEVENT:FALSE
SUMMARY:Wade Hayes
DESCRIPTION:Wade Hayes on Saturday\, March 7\, 2015 - 7:30pm Wade Hayes' music is all about honoring the traditional music that he loves and grew up on\, while building a solid reputation as a one-of-a-kind performer. Beginning with his signature #1 song Old Enough to Know Better he's cut a path through the country music landscape with top tunes I'm Still Dancin' With You\, What I Meant to Say\, Don't Stop\, The Day That She Left Tulsa\, and others. He was named Billboard Magazine's Top New Country Artist in 1995\, and in 1997 was chosen the Male Star of Tomorrow by TNN Music City News. Franklin High School's Future Business Leaders of America would like for you to join us in the fight against colon cancer. Please help us break the silence about this silent killer and promote awareness that early screening and detection are key. Join us for an evening of entertainment from Nashville Recording Artist and Stage IV colon cancer survivor\, Wade Hayes Ticket Prices: $15
X-ALT-DESC;FMTTYPE=text/html:Wade Hayes on Saturday\, March 7\, 2015 - 7:30pm Wade Hayes&#39\; music is all about honoring the traditional music that he loves and grew up on\, while building a solid reputation as a one-of-a-kind performer. Beginning with his signature #1 song Old Enough to Know Better he&#39\;s cut a path through the country music landscape with top tunes I&#39\;m Still Dancin&#39\; With You\, What I Meant to Say\, Don&#39\;t Stop\, The Day That She Left Tulsa\, and others. He was named Billboard Magazine&#39\;s Top New Country Artist in 1995\, and in 1997 was chosen the Male Star of Tomorrow by TNN Music City News. Franklin High School&#39\;s Future Business Leaders of America would like for you to join us in the fight against colon cancer. Please help us break the silence about this silent killer and promote awareness that early screening and detection are key. Join us for an evening of entertainment from Nashville Recording Artist and Stage IV colon cancer survivor\, Wade Hayes Ticket Prices: $15
LOCATION:Smoky Mountain Center for the Performing Arts 1028 Georgia Road Franklin\, NC 28734
UID:e.256.37635
SEQUENCE:3
DTSTAMP:20260423T211735Z
URL:https://members.visitblairsvillega.com/events/details/wade-hayes-03-07-2015-37635
END:VEVENT

END:VCALENDAR
