BEGIN:VCALENDAR
VERSION:2.0
PRODID:-//ChamberMaster//Event Calendar 2.0//EN
METHOD:PUBLISH
X-PUBLISHED-TTL:P3D
REFRESH-INTERVAL:P3D
CALSCALE:GREGORIAN
BEGIN:VEVENT
DTSTART:20160326T160000Z
DTEND:20160326T220000Z
X-MICROSOFT-CDO-ALLDAYEVENT:FALSE
SUMMARY:WAG Wine Hwy Weekend and Vino and Vibes featuring Monica and Derek at Hightower Creek Vineyards
DESCRIPTION:Come enjoy two weekends of wine tastings in the beautiful mountains as the Winegrower's Association of Georgia hosts its annual Wine Highway Weekend. Simply purchase a passport at any participating winery to enjoy tastings\, events and more.\n\nHightower Creek Vineyards will be having live music each Saturday from 2:00pm   5:00pm. On Saturday\, March 26 enjoy Monica Spears and Derek Worth. Derek plays the guitar unbelievably well and Monica's soft\, jazzy voice will surely mesmerize you!
X-ALT-DESC;FMTTYPE=text/html:<p>Come enjoy two weekends of wine tastings in the beautiful mountains as the Winegrower&rsquo\;s Association of Georgia hosts its annual Wine Highway Weekend. Simply purchase a passport at any participating winery to enjoy tastings\, events and more.</p>\n\n<p>Hightower Creek Vineyards will be having live music each Saturday from 2:00pm &ndash\; 5:00pm. On Saturday\, March 26 enjoy Monica Spears and Derek Worth.&nbsp\;Derek plays the guitar unbelievably well and Monica&rsquo\;s soft\, jazzy voice will surely mesmerize you!</p>\n
LOCATION:7150 Canaan Drive Hiawassee\, GA 30546
UID:e.256.49828
SEQUENCE:3
DTSTAMP:20260421T022711Z
URL:https://members.visitblairsvillega.com/events/details/wag-wine-hwy-weekend-and-vino-and-vibes-featuring-monica-and-derek-at-hightower-creek-vineyards-03-26-2016-49828
END:VEVENT

END:VCALENDAR
