BEGIN:VCALENDAR
VERSION:2.0
PRODID:-//ChamberMaster//Event Calendar 2.0//EN
METHOD:PUBLISH
X-PUBLISHED-TTL:P3D
REFRESH-INTERVAL:P3D
CALSCALE:GREGORIAN
BEGIN:VEVENT
DTSTART:20160319T160000Z
DTEND:20160319T220000Z
X-MICROSOFT-CDO-ALLDAYEVENT:FALSE
SUMMARY:WAG Wine Hwy Weekend and Vino and Vibes kick-off featuring Raven and Red at Hightower Creek Vineyards
DESCRIPTION:Come enjoy two weekends of wine tastings in the beautiful mountains as the Winegrower's Association of Georgia hosts its annual Wine Highway Weekend. Simply purchase a passport at any participating winery to enjoy tastings\, events and more.\n\nHightower Creek Vineyards will be having live music each Saturday from 2:00pm   5:00pm. On Saturday\, March 19 the season kicks off with Raven and Red\, a dynamic duo that always wows the audience with their music\, performing a wide range of genres from Broadway hits to country.
X-ALT-DESC;FMTTYPE=text/html:<p>Come enjoy two weekends of wine tastings in the beautiful mountains as the Winegrower&rsquo\;s Association of Georgia hosts its annual Wine Highway Weekend. Simply purchase a passport at any participating winery to enjoy tastings\, events and more.</p>\n\n<p>Hightower Creek Vineyards will be having live music each Saturday from 2:00pm &ndash\; 5:00pm. On Saturday\, March 19 the season kicks off with Raven and Red\, a dynamic duo that always wows the audience with their music\, performing a wide range of genres from Broadway hits to country.</p>\n
LOCATION:7150 Canaan Drive Hiawassee\, GA 30546
UID:e.256.49826
SEQUENCE:3
DTSTAMP:20260421T040824Z
URL:https://members.visitblairsvillega.com/events/details/wag-wine-hwy-weekend-and-vino-and-vibes-kick-off-featuring-raven-and-red-at-hightower-creek-vineyards-03-19-2016-49826
END:VEVENT

END:VCALENDAR
