BEGIN:VCALENDAR
VERSION:2.0
PRODID:-//ChamberMaster//Event Calendar 2.0//EN
METHOD:PUBLISH
X-PUBLISHED-TTL:P3D
REFRESH-INTERVAL:P3D
CALSCALE:GREGORIAN
BEGIN:VEVENT
DTSTART:20260427T133000Z
DTEND:20260427T160000Z
X-MICROSOFT-CDO-ALLDAYEVENT:FALSE
SUMMARY:Watercolor bookmark class-BEGINNERS WELCOME!
DESCRIPTION:Come and enjoy a 2 1/2 hour class doing a simple watercolor/ink bookmark or maybe more! No experience is needed and this is a chance to learn a bit about the wonderful world of watercolor. Class limit is 6.\n\nPam Coste is the instructor with a wide variety of skills and interest of which watercolor is but one of many.
X-ALT-DESC;FMTTYPE=text/html:<span style="color:#333333"><span style="font-family:arial\,sans-serif"><span style="font-size:10.0pt">Come and enjoy a 2 1/2 hour class doing a simple watercolor/ink bookmark or maybe more! No experience is needed and this is a chance to learn a bit about the wonderful world of watercolor. Class limit is 6.</span></span></span><br />\n<span style="color:#333333"><span style="font-family:arial\,sans-serif"><span style="font-size:10.0pt">Pam Coste is the instructor with a wide variety of skills and interest of which watercolor is but one of many.</span></span></span><br />\n&nbsp\;
LOCATION:Calvary Alliance fellowship Hall 1390 HWY 76 Hiawassee\, Ga.
UID:e.256.143297
SEQUENCE:3
DTSTAMP:20260420T003848Z
URL:https://members.visitblairsvillega.com/events/details/watercolor-bookmark-class-beginners-welcome-143297
END:VEVENT

END:VCALENDAR
