BEGIN:VCALENDAR
VERSION:2.0
PRODID:-//ChamberMaster//Event Calendar 2.0//EN
METHOD:PUBLISH
X-PUBLISHED-TTL:P3D
REFRESH-INTERVAL:P3D
CALSCALE:GREGORIAN
BEGIN:VEVENT
DTSTART:20150711T140000Z
DTEND:20150711T160000Z
X-MICROSOFT-CDO-ALLDAYEVENT:FALSE
SUMMARY:"We Are Still Here" Bowling Tournament Fundraiser
DESCRIPTION:Come out and bring your family & friends to support the "We Are Still Here" fundraiser by joining our bowling tournament!
X-ALT-DESC;FMTTYPE=text/html:Come out and bring your family &amp\; friends to support the &quot\;We Are Still Here&quot\; fundraiser by joining our bowling tournament!&nbsp\;
LOCATION:Galaxy Bowling 104 Backyard Lane Blairsville
UID:e.256.40882
SEQUENCE:3
DTSTAMP:20260423T165514Z
URL:https://members.visitblairsvillega.com/events/details/we-are-still-here-bowling-tournament-fundraiser-07-11-2015-40882
END:VEVENT

END:VCALENDAR
