BEGIN:VCALENDAR
VERSION:2.0
PRODID:-//ChamberMaster//Event Calendar 2.0//EN
METHOD:PUBLISH
X-PUBLISHED-TTL:P3D
REFRESH-INTERVAL:P3D
CALSCALE:GREGORIAN
BEGIN:VEVENT
DTSTART:20170219T003000Z
DTEND:20170219T023000Z
X-MICROSOFT-CDO-ALLDAYEVENT:FALSE
SUMMARY:We’ve Only Just Begun Carpenters Remembered
DESCRIPTION:Long ago and oh so far away the world fell in love with the Carpenters and their era-defining repertoire of songs. "We've Only Just Begun: Carpenters Remembered" is the definitive show celebrating those songs and one of the most successful recording acts of all time.Led by Michelle Berting-Brett and accompanied by a live\, 7-piece Nashville band directed by Harry Sharpe\, the show re-creates the Carpenters' original sound. From California to New York City to SOLD OUT performances in Las Vegas\, "We've Only Just Begun: Carpenters Remembered" has been met with enthusiasm from Carpenters' fans and reviewers alike.
X-ALT-DESC;FMTTYPE=text/html:Long ago and oh so far away the world fell in love with the Carpenters and their era-defining repertoire of songs. &quot\;We&#39\;ve Only Just Begun: Carpenters Remembered&quot\; is the definitive show celebrating those songs and one of the most successful recording acts of all time.Led by Michelle Berting-Brett and accompanied by a live\, 7-piece Nashville band directed by Harry Sharpe\, the show re-creates the Carpenters&#39\; original sound. From California to New York City to SOLD OUT performances in Las Vegas\, &quot\;We&#39\;ve Only Just Begun: Carpenters Remembered&quot\; has been met with enthusiasm from Carpenters&#39\; fans and reviewers alike.
LOCATION:Smoky Mountain Center for the Performing Arts 1028 Georgia Road Franklin\, NC 28734
UID:e.256.59740
SEQUENCE:3
DTSTAMP:20260420T075340Z
URL:https://members.visitblairsvillega.com/events/details/we-ve-only-just-begun-carpenters-remembered-59740
END:VEVENT

END:VCALENDAR
