BEGIN:VCALENDAR
VERSION:2.0
PRODID:-//ChamberMaster//Event Calendar 2.0//EN
METHOD:PUBLISH
X-PUBLISHED-TTL:P3D
REFRESH-INTERVAL:P3D
CALSCALE:GREGORIAN
BEGIN:VEVENT
DTSTART:20160305T150000Z
DTEND:20160305T210000Z
X-MICROSOFT-CDO-ALLDAYEVENT:FALSE
SUMMARY:Wedding Expo
DESCRIPTION:The Hackney Warehouse of Murphy Nc Presents our Annual Wedding Expo There will be Bridal Booths\, Catering and Food\,Party Planners\,Event Rentals\,Jewelry and much much more
X-ALT-DESC;FMTTYPE=text/html:The Hackney Warehouse of Murphy Nc Presents our Annual Wedding Expo There will be Bridal Booths\, Catering and Food\,Party Planners\,Event Rentals\,Jewelry and much much more
LOCATION:11 Railroad Street Murphy NC 28906
UID:e.256.49479
SEQUENCE:3
DTSTAMP:20260421T035704Z
URL:https://members.visitblairsvillega.com/events/details/wedding-expo-03-05-2016-49479
END:VEVENT

END:VCALENDAR
