BEGIN:VCALENDAR
VERSION:2.0
PRODID:-//ChamberMaster//Event Calendar 2.0//EN
METHOD:PUBLISH
X-PUBLISHED-TTL:P3D
REFRESH-INTERVAL:P3D
CALSCALE:GREGORIAN
BEGIN:VEVENT
DTSTART:20150523T140000Z
DTEND:20150523T220000Z
X-MICROSOFT-CDO-ALLDAYEVENT:FALSE
SUMMARY:Wedding Expo
DESCRIPTION:Wedding Expo featuring photographers\, dj's\, caterer's\, florists\, videographers\, bakery's\, jewelry\, and more!\n\n\n\nBe entered to win a variety of prizes!
X-ALT-DESC;FMTTYPE=text/html:Wedding Expo featuring photographers\, dj&#39\;s\, caterer&#39\;s\, florists\, videographers\, bakery&#39\;s\, jewelry\, and more!<br />\n<br />\nBe entered to win a variety of prizes!
LOCATION:The Hackney Warehouse 11 Railroad St. Murphy\, NC 28906
UID:e.256.37904
SEQUENCE:3
DTSTAMP:20260423T194252Z
URL:https://members.visitblairsvillega.com/events/details/wedding-expo-05-23-2015-37904
END:VEVENT

END:VCALENDAR
