BEGIN:VCALENDAR
VERSION:2.0
PRODID:-//ChamberMaster//Event Calendar 2.0//EN
METHOD:PUBLISH
X-PUBLISHED-TTL:P3D
REFRESH-INTERVAL:P3D
CALSCALE:GREGORIAN
BEGIN:VEVENT
DTSTART:20150501T230000Z
DTEND:20150502T030000Z
X-MICROSOFT-CDO-ALLDAYEVENT:FALSE
SUMMARY:West Side Story - presented by Asheville Lyric Opera
DESCRIPTION:Leonard Bernstein's West Side Story\, a story of hidden romance and tragedy\, tensions rise in this classic American musical. This most loved show is an adaptation of William Shakespeare's Romeo and Juliet set in 1950's Manhattan. We join rival gangs the American "Jets" and the Puerto Rican "Sharks" who are battling for control of the historic New York City community (Upper West Side). In the midst of the gang tensions and neighborhood prejudices blooms the romance of Tony\, a former Jets member and Maria\, the younger sister of Bernardo\, founder of the Sharks. West Side Story tells a relevant story of the consequences of ethnic violence and romance on the streets of our greatest city. The Asheville Lyric Opera is thrilled to showcase Bernstein's famous 1957 Broadway classic to the stage of Western North Carolina where audiences will be treated to classic hits including "Tonight\," "America\," "One Hand\, One Heart\," "Somewhere" and "I Feel Pretty."
X-ALT-DESC;FMTTYPE=text/html:Leonard Bernstein&#39\;s West Side Story\, a story of hidden romance and tragedy\, tensions rise in this classic American musical. This most loved show is an adaptation of William Shakespeare&#39\;s Romeo and Juliet set in 1950&#39\;s Manhattan. We join rival gangs the American &quot\;Jets&quot\; and the Puerto Rican &quot\;Sharks&quot\; who are battling for control of the historic New York City community (Upper West Side). In the midst of the gang tensions and neighborhood prejudices blooms the romance of Tony\, a former Jets member and Maria\, the younger sister of Bernardo\, founder of the Sharks. West Side Story tells a relevant story of the consequences of ethnic violence and romance on the streets of our greatest city. The Asheville Lyric Opera is thrilled to showcase Bernstein&#39\;s famous 1957 Broadway classic to the stage of Western North Carolina where audiences will be treated to classic hits including &quot\;Tonight\,&quot\; &quot\;America\,&quot\; &quot\;One Hand\, One Heart\,&quot\; &quot\;Somewhere&quot\; and &quot\;I Feel Pretty.&quot\;
LOCATION:Smoky Mountain Center for the Performing Arts 1028 Georgia Road Franklin\, NC 28734
UID:e.256.40005
SEQUENCE:3
DTSTAMP:20260423T200536Z
URL:https://members.visitblairsvillega.com/events/details/west-side-story-presented-by-asheville-lyric-opera-05-01-2015-40005
END:VEVENT

END:VCALENDAR
