BEGIN:VCALENDAR
VERSION:2.0
PRODID:-//ChamberMaster//Event Calendar 2.0//EN
METHOD:PUBLISH
X-PUBLISHED-TTL:P3D
REFRESH-INTERVAL:P3D
CALSCALE:GREGORIAN
BEGIN:VEVENT
DTSTART:20141213T173000Z
DTEND:20141213T190000Z
X-MICROSOFT-CDO-ALLDAYEVENT:FALSE
SUMMARY:Whiskers Project Christmas Meeting
DESCRIPTION:Whiskers Project is having our Christmas meeting Saturday December 13th at Monet's Restaurant 12:30pm Blue Ridge St.\, Blairsville\, Ga.\, dutch treat. Join us to celebrate over ten years of stopping the over population of homeless kittens. Our volunteers help trap\, transport\, feed and assist during surgery days.
X-ALT-DESC;FMTTYPE=text/html:<span style="font-family:times new roman\,serif\;"><span style="font-size:12.0pt\;">Whiskers Project is having our Christmas meeting Saturday December 13th at Monet&#39\;s Restaurant 12:30pm Blue Ridge St.\, Blairsville\, Ga.\, dutch treat. Join us to celebrate over ten years of stopping the over population of homeless kittens. Our volunteers help trap\, transport\, feed and assist during surgery days. </span></span>
LOCATION:Monet's Restaurant 130 Blue Ridge Street Blairsville
UID:e.256.28078
SEQUENCE:3
DTSTAMP:20260424T020405Z
URL:https://members.visitblairsvillega.com/events/details/whiskers-project-christmas-meeting-12-13-2014-28078
END:VEVENT

END:VCALENDAR
