BEGIN:VCALENDAR
VERSION:2.0
PRODID:-//ChamberMaster//Event Calendar 2.0//EN
METHOD:PUBLISH
X-PUBLISHED-TTL:P3D
REFRESH-INTERVAL:P3D
CALSCALE:GREGORIAN
BEGIN:VEVENT
DTSTART:20141025T183000Z
DTEND:20141025T193000Z
X-MICROSOFT-CDO-ALLDAYEVENT:FALSE
SUMMARY:Whiskers Project Volunteers Needed!
DESCRIPTION:Whiskers Project\, dedicated to reducing the overpopulation of kittens\, will have an 'open to new members\,' meeting at Antionetta's (Monet's)\, Blue Ridge St. in Blairsville on October 25th at 12:30 pm. Please contact us for more information at 888-872-9330 or email info@whiskersproject.org \n\n\n\nVOLUNTEERS NEEDED UNION & TOWNS COUNTIES  Get inspired\, get involved! We help people who help cats. Whiskers Project is hosting a workshop on Saturday October 25th at Towns County Recreation Center from 2:30-3:30 pm at 150 Foster Park Rd.\, Young Harris\, Ga. We are changing the way communities care for outdoor cats. Help us to stop the over population of homeless kittens. Our volunteers help trap\, transport\, feed and assist during surgery days. Please call to sign-up RSVP at 888-872-9330 or email info@whiskersproject.org come to learn\, meet new people and have fun helping cats live a better life outside. Whiskers Project is a Non-Profit\, Trap\, Neuter-Return (TNR) program that spays & neuters feral and stray cats. We are part of the Feral Friends Network & Alley Cat Allies. Whiskers Project was founded in 2003 by Victoria Lindsey and we have spayed and neutered over 2\,000+ cats in the North Georgia area. TC Rec. Center\, 150 Foster Park Rd. Young Harris Ga. (near the US 76\, GA 515 junction stop-light\; turn onto Mining Gap Trail\, between Benjamin Moore and Cent. 21 Scenic Realty\, go 2 blocks to the Rec. Center on the right). Don't forget to call to make sure you get on the list of participants for this fun day devoted to cats.
X-ALT-DESC;FMTTYPE=text/html:<strong>Whiskers Project\, </strong>dedicated to reducing the overpopulation of kittens\, will have an &#39\;open to new members\,&#39\; <strong>meeting at Antionetta&#39\;s (Monet&#39\;s)\, Blue Ridge St. in Blairsville on October 25th at 12:30 pm. Please contact us for more information at 888-872-9330 or email info@whiskersproject.org </strong><br />\n<br />\nVOLUNTEERS NEEDED UNION &amp\; TOWNS COUNTIES&nbsp\; Get inspired\, get involved! We help people who help cats. <strong>Whiskers Project is hosting a workshop on Saturday October 25th at Towns County Recreation Center from 2:30-3:30 pm at 150 Foster Park Rd.\, Young Harris\, Ga.</strong> We are changing the way communities care for outdoor cats. Help us to stop the over population of homeless kittens. Our volunteers help trap\, transport\, feed and assist during surgery days. <strong>Please call to sign-up RSVP at 888-872-9330 or email info@whiskersproject.org</strong> come to learn\, meet new people and have fun helping cats live a better life outside. Whiskers Project is a Non-Profit\, Trap\, Neuter-Return (TNR) program that spays &amp\; neuters feral and stray cats. We are part of the Feral Friends Network &amp\; Alley Cat Allies. Whiskers Project was founded in 2003 by Victoria Lindsey and we have spayed and neutered over 2\,000+ cats in the North Georgia area. TC Rec. Center\, 150 Foster Park Rd. Young Harris Ga. (near the US 76\, GA 515 junction stop-light\; turn onto Mining Gap Trail\, between Benjamin Moore and Cent. 21 Scenic Realty\, go 2 blocks to the Rec. Center on the right). Don&#39\;t forget to call to make sure you get on the list of participants for this fun day devoted to cats.
LOCATION:1st meeting @ Monet's Restaurant\, Blue Ridge Street @ 12:30pm 2nd meeting @ Towns County Recreation Center from 2:30-3:30 pm at 150 Foster Park Rd.\, Young Harris\, Ga.
UID:e.256.27669
SEQUENCE:3
DTSTAMP:20260424T045158Z
URL:https://members.visitblairsvillega.com/events/details/whiskers-project-volunteers-needed-10-25-2014-27669
END:VEVENT

END:VCALENDAR
