BEGIN:VCALENDAR
VERSION:2.0
PRODID:-//ChamberMaster//Event Calendar 2.0//EN
METHOD:PUBLISH
X-PUBLISHED-TTL:P3D
REFRESH-INTERVAL:P3D
CALSCALE:GREGORIAN
BEGIN:VEVENT
DTSTART:20141123T000000Z
DTEND:20141123T020000Z
X-MICROSOFT-CDO-ALLDAYEVENT:FALSE
SUMMARY:Who Dun It Mystery Art Fundraiser
DESCRIPTION:A $50 ticket buys you your choice of an original piece of artwork from one of our 600+ member artists. They may or may not be creating in their usual style\, so you won't know who your artist is until after you make your selection. Just in time for that perfect holiday gift!
X-ALT-DESC;FMTTYPE=text/html:A $50&nbsp\;ticket buys you your choice of an original piece of artwork from one of our 600+ member artists. They may or may not be creating in their usual style\, so you won&#39\;t know who your artist is until after you make your selection. Just in time for that perfect holiday gift!
LOCATION:Blue Ridge Mountains Arts Association 420 West Main Street Blue Ridge\, GA
UID:e.256.27837
SEQUENCE:3
DTSTAMP:20260424T045308Z
URL:https://members.visitblairsvillega.com/events/details/who-dun-it-mystery-art-fundraiser-11-22-2014-27837
END:VEVENT

END:VCALENDAR
