BEGIN:VCALENDAR
VERSION:2.0
PRODID:-//ChamberMaster//Event Calendar 2.0//EN
METHOD:PUBLISH
X-PUBLISHED-TTL:P3D
REFRESH-INTERVAL:P3D
CALSCALE:GREGORIAN
BEGIN:VEVENT
DTSTART:20141115T170000Z
DTEND:20141115T170000Z
X-MICROSOFT-CDO-ALLDAYEVENT:FALSE
SUMMARY:Who's Got Talent?
DESCRIPTION:Ever wanted to show off? Here's your chance! The Smoky Mountain Center for the Performing Arts is proud to present Who's Got Talent?\, a local talent competition open to singers\, dancers\, musicians\, variety acts and more. Experience the magic of the spot light while the audience votes for their favorite act and the winner of a cash prize.
X-ALT-DESC;FMTTYPE=text/html:Ever wanted to show off? Here&#39\;s your chance! The Smoky Mountain Center for the Performing Arts is proud to present Who&#39\;s Got Talent?\, a local talent competition open to singers\, dancers\, musicians\, variety acts and more. Experience the magic of the spot light while the audience votes for their favorite act and the winner of a cash prize.
LOCATION:Smoky Mountain Center for the Performing Arts 1028 Georgia Road Franklin\, NC 28734
UID:e.256.27840
SEQUENCE:3
DTSTAMP:20260424T045107Z
URL:https://members.visitblairsvillega.com/events/details/who-s-got-talent-11-15-2014-27840
END:VEVENT

END:VCALENDAR
