BEGIN:VCALENDAR
VERSION:2.0
PRODID:-//ChamberMaster//Event Calendar 2.0//EN
METHOD:PUBLISH
X-PUBLISHED-TTL:P3D
REFRESH-INTERVAL:P3D
CALSCALE:GREGORIAN
BEGIN:VEVENT
DTSTART:20171118T230000Z
DTEND:20171119T020000Z
X-MICROSOFT-CDO-ALLDAYEVENT:FALSE
SUMMARY:Whodunit Mystery Art Fundraiser
DESCRIPTION:This is a rare opportunity to get amazing artworks from sought-after local and regional artists at an incredible price! Each $50 ticket guarantees you are going home with an original piece of art\, the mystery is trying to figure out who your artist is. This is an event with fantastic art\, delicious food\, and lots of fun! Limited tickets available for this event.
X-ALT-DESC;FMTTYPE=text/html:<span style="font-size:12pt"><span style="font-family:adobe caslon pro bold\,serif">This is a rare opportunity to get amazing artworks from sought-after local and regional artists at an incredible price! Each $50 ticket guarantees you are going home with an original piece of art\, the mystery is trying to figure out who your artist is. This is an event with fantastic art\, delicious food\, and lots of fun! </span></span><span style="font-size:12pt"><span style="font-family:adobe caslon pro bold\,serif">Limited tickets available for this event. </span></span><br />\n&nbsp\;
LOCATION:The Art Center (Blue Ridge Mountains Arts Association) 420 West Main Street Blue Ridge\, GA 30513
UID:e.256.76690
SEQUENCE:3
DTSTAMP:20260419T141255Z
URL:https://members.visitblairsvillega.com/events/details/whodunit-mystery-art-fundraiser-11-18-2017-76690
END:VEVENT

END:VCALENDAR
