BEGIN:VCALENDAR
VERSION:2.0
PRODID:-//ChamberMaster//Event Calendar 2.0//EN
METHOD:PUBLISH
X-PUBLISHED-TTL:P3D
REFRESH-INTERVAL:P3D
CALSCALE:GREGORIAN
BEGIN:VEVENT
DTSTART:20151122T000000Z
DTEND:20151122T020000Z
X-MICROSOFT-CDO-ALLDAYEVENT:FALSE
SUMMARY:WhoDunIt Mystery Art Fundraiser
DESCRIPTION:This is a rare opportunity to get amazing artworks from sought-after local and regional artists at an incredible price! The mystery is trying to figure out who your artist is.  Each $50 ticket guarantees you are going home with an original piece of art. This is an event with fantastic art\, delicious food\, and lots of fun! Limited tickets available. Purchase your tickets today before they are sold out.
X-ALT-DESC;FMTTYPE=text/html:<span style="font-size: 12pt\;"><span style="font-family: adobe caslon pro bold\,serif\;">This is a rare opportunity to get amazing artworks from sought-after local and regional artists at an incredible price! The mystery is trying to figure out who your artist is.&nbsp\; Each $50 ticket guarantees you are going home with an original piece of art. This is an event with fantastic art\, delicious food\, and lots of fun! </span></span><strong><span style="font-size: 12pt\;"><span style="font-family: adobe caslon pro bold\,serif\;">Limited tickets available. Purchase your tickets today before they are sold out.</span></span></strong><br />\n&nbsp\;
LOCATION:The Art Center (Blue Ridge Mountains Arts Association) 420 West Main Street Blue Ridge\, GA 30513
UID:e.256.38160
SEQUENCE:3
DTSTAMP:20260423T102837Z
URL:https://members.visitblairsvillega.com/events/details/whodunit-mystery-art-fundraiser-11-21-2015-38160
END:VEVENT

END:VCALENDAR
