BEGIN:VCALENDAR
VERSION:2.0
PRODID:-//ChamberMaster//Event Calendar 2.0//EN
METHOD:PUBLISH
X-PUBLISHED-TTL:P3D
REFRESH-INTERVAL:P3D
CALSCALE:GREGORIAN
BEGIN:VEVENT
DTSTART:20160820T230000Z
DTEND:20160821T010000Z
X-MICROSOFT-CDO-ALLDAYEVENT:FALSE
SUMMARY:Wild Game Supper hosted by Camp Jabez Retreat Center
DESCRIPTION:The Wild Game Supper hosted by Camp Jabez Retreat Center will have Jeff Deaver as the guest speaker.  There will be Raffle Prizes and Dinner
X-ALT-DESC;FMTTYPE=text/html:The Wild Game Supper hosted by Camp Jabez Retreat Center will have Jeff Deaver as the guest speaker.&nbsp\; There will be Raffle Prizes and Dinner
LOCATION:Call for more information
UID:e.256.53655
SEQUENCE:3
DTSTAMP:20260420T164920Z
URL:https://members.visitblairsvillega.com/events/details/wild-game-supper-hosted-by-camp-jabez-retreat-center-08-20-2016-53655
END:VEVENT

END:VCALENDAR
