BEGIN:VCALENDAR
VERSION:2.0
PRODID:-//ChamberMaster//Event Calendar 2.0//EN
METHOD:PUBLISH
X-PUBLISHED-TTL:P3D
REFRESH-INTERVAL:P3D
CALSCALE:GREGORIAN
BEGIN:VEVENT
DTSTART:20140926T220000Z
DTEND:20140927T010000Z
X-MICROSOFT-CDO-ALLDAYEVENT:FALSE
SUMMARY:"Wine and Swine (and music) Till 9" at Hightower Creek Vineyards
DESCRIPTION:September 26th: 6:00pm-9:00pm. Wine and Swine (and music) til Nine. Our monthly BBQ dinner is only $20.00 and includes a bbq plate (pork sandwich\, baked beans\, cole slaw\, chips) and a glass of wine plus great music by Sarah Tucker from Asheville\, NC!! Sarah is a very accomplished singer/songwriter. Come enjoy a great dinner and the amazing talent of this young musician.
X-ALT-DESC;FMTTYPE=text/html:September 26th: 6:00pm-9:00pm. Wine and Swine (and music) til Nine. Our monthly BBQ dinner is only $20.00 and includes a bbq plate (pork sandwich\, baked beans\, cole slaw\, chips) and a glass of wine plus great music by Sarah Tucker from Asheville\, NC!! Sarah is a very accomplished singer/songwriter. Come enjoy a great dinner and the amazing talent of this young musician.
LOCATION:7150 Canaan Drive Hiawassee\, GA 30546
UID:e.256.27318
SEQUENCE:3
DTSTAMP:20260424T063732Z
URL:https://members.visitblairsvillega.com/events/details/wine-and-swine-and-music-till-9-at-hightower-creek-vineyards-09-26-2014-27318
END:VEVENT

END:VCALENDAR
