BEGIN:VCALENDAR
VERSION:2.0
PRODID:-//ChamberMaster//Event Calendar 2.0//EN
METHOD:PUBLISH
X-PUBLISHED-TTL:P3D
REFRESH-INTERVAL:P3D
CALSCALE:GREGORIAN
BEGIN:VEVENT
DTSTART:20140725T220000Z
DTEND:20140726T010000Z
X-MICROSOFT-CDO-ALLDAYEVENT:FALSE
SUMMARY:Wine and Swine Till 9 with "Raven and Red" at Hightower Creek Vineyards!
DESCRIPTION:Wine & Swine til Nine!\n\nWith Live music by Raven and Red!\n\nFriday\, July 25th 2014\, 6:00 - 9:00pm\n\nCan you think of a better way to end the week than with homemade barbecue and wine? Come welcome the weekend with Hightower Creek! We are excited to have the award winning band Raven and Red performing from 6-9pm!\n\n$20 admission includes a house-smoked barbecue sandwich\, chips\, cole slaw\, baked beans and a glass of wine and live entertainment! You won't want to miss this performance and fun evening!
X-ALT-DESC;FMTTYPE=text/html:<div>Wine &amp\; Swine til Nine!</div>\n\n<div>With Live music by Raven and Red!</div>\n\n<div>Friday\, July 25th 2014\, 6:00 - 9:00pm</div>\n\n<div>Can you think of a better way to end the week than with homemade barbecue and wine? Come welcome the weekend with Hightower Creek! We are excited to have the award winning band Raven and Red performing from 6-9pm!</div>\n\n<div>$20 admission includes a house-smoked barbecue sandwich\, chips\, cole slaw\, baked beans and a glass of wine and live entertainment! You won&#39\;t want to miss this performance and fun evening!</div>\n
LOCATION:7150 Canaan Drive Hiawassee\, GA 30546
UID:e.256.24868
SEQUENCE:3
DTSTAMP:20260424T092624Z
URL:https://members.visitblairsvillega.com/events/details/wine-and-swine-till-9-with-raven-and-red-at-hightower-creek-vineyards-07-25-2014-24868
END:VEVENT

END:VCALENDAR
