BEGIN:VCALENDAR
VERSION:2.0
PRODID:-//ChamberMaster//Event Calendar 2.0//EN
METHOD:PUBLISH
X-PUBLISHED-TTL:P3D
REFRESH-INTERVAL:P3D
CALSCALE:GREGORIAN
BEGIN:VEVENT
DTSTART:20140425T220000Z
DTEND:20140426T010000Z
X-MICROSOFT-CDO-ALLDAYEVENT:FALSE
SUMMARY:"Wine and Swine till Nine" at Hightower Creek Vineyards
DESCRIPTION:Wine & Swine til Nine!\n\n \n\nFriday\, April 25\, 6:00 - 9:00pm\n\nCan you think of a better way to end the week than with homemade barbecue and wine? Come welcome the weekend with Hightower Creek. \n\n \n\n$15 admission includes a house-smoked barbecue sandwich\, chips\, cole slaw\, baked beans and a glass of wine. Come eat\, drink and be merry with us!
X-ALT-DESC;FMTTYPE=text/html:<div>Wine &amp\; Swine til Nine!</div>\n\n<div>&nbsp\;</div>\n\n<div>Friday\, April 25\, 6:00 - 9:00pm</div>\n\n<div>Can you think of a better way to end the week than with homemade barbecue and wine? Come welcome the weekend with Hightower Creek.&nbsp\;</div>\n\n<div>&nbsp\;</div>\n\n<div>$15 admission includes a house-smoked barbecue sandwich\, chips\, cole slaw\, baked beans and a glass of wine. Come eat\, drink and be merry with us!&nbsp\;</div>\n
LOCATION:7150 Canaan Drive Hiawassee\, GA 30546
UID:e.256.24228
SEQUENCE:3
DTSTAMP:20260424T135612Z
URL:https://members.visitblairsvillega.com/events/details/wine-and-swine-till-nine-at-hightower-creek-vineyards-04-25-2014-24228
END:VEVENT

END:VCALENDAR
