BEGIN:VCALENDAR
VERSION:2.0
PRODID:-//ChamberMaster//Event Calendar 2.0//EN
METHOD:PUBLISH
X-PUBLISHED-TTL:P3D
REFRESH-INTERVAL:P3D
CALSCALE:GREGORIAN
BEGIN:VEVENT
DTSTART:20170607T123000Z
DTEND:20170607T200000Z
X-MICROSOFT-CDO-ALLDAYEVENT:FALSE
SUMMARY:Wine Business Conference 2017
DESCRIPTION:The new 2017 Wine Business conference is coming to the heart of North Georgia wine country June 7.  Presented by the UGA Small Business Development Center\, this is the must-attend educational and networking event if you are associated with the wine industry in Georgia.   WHO SHOULD ATTEND: 1) Winery and vineyard owners and management\; 2) Tasting room owners and management\; 3) Event venue and related on-site businesses\; 4) Suppliers to the wine industry\; 5) Wine-affiliated business.  TOPICS INCLUDE:  1) State of the Georgia Wine Industry\; 2) Marketing your winery or vineyard\; 3) Starting up a new wine business\; 4) The Regulatory Environment\; 5) Growing more than grapes: Expanding the venue\, food and accommodation business\; 6) Financial planning and external financing.
X-ALT-DESC;FMTTYPE=text/html:The new 2017 Wine Business conference is coming to the heart of North Georgia wine country June 7. &nbsp\;Presented by the UGA Small Business Development Center\, this is the must-attend educational and networking event if you are associated with the wine industry in Georgia. &nbsp\;<strong> WHO SHOULD ATTEND</strong>: 1) Winery and vineyard owners and management\; 2) Tasting room owners and management\; 3) Event venue and related on-site businesses\; 4) Suppliers to the wine industry\; 5) Wine-affiliated business. &nbsp\;<strong>TOPICS INCLUDE: &nbsp\;</strong>1) State of the Georgia Wine Industry\; 2) Marketing your winery or vineyard\; 3) Starting up a new wine business\; 4) The Regulatory Environment\; 5) Growing more than grapes: Expanding the venue\, food and accommodation business\; 6) Financial planning and external financing.
LOCATION:University of North Georgia Dining Hall Building/Banquet Rooms A/B Dahlonega\, GA
UID:e.256.69123
SEQUENCE:3
DTSTAMP:20260420T003809Z
URL:https://members.visitblairsvillega.com/events/details/wine-business-conference-2017-69123
END:VEVENT

END:VCALENDAR
