BEGIN:VCALENDAR
VERSION:2.0
PRODID:-//ChamberMaster//Event Calendar 2.0//EN
METHOD:PUBLISH
X-PUBLISHED-TTL:P3D
REFRESH-INTERVAL:P3D
CALSCALE:GREGORIAN
BEGIN:VEVENT
DTSTART:20140329T160000Z
DTEND:20140329T210000Z
X-MICROSOFT-CDO-ALLDAYEVENT:FALSE
SUMMARY:Wine Hwy Weekend at Hightower Creek Vineyards\, LLC
DESCRIPTION:Winegrowers Association of Georgia Wine Hwy Weekend! On Saturday\, 3/29/14\, we will be having Paul Constantine "Dr. Paul\," performing from 2-5pm. Paul is a solo\, acoustic musician/singer with a unique and powerful voice performing Country/Americana/Soul sounds. We are very excited to have him performing! Soup and free tastings are included with the purchase of your WAG Passport ($30.00). For those who choose not to purchase the Passport\, admission is $10.00 and includes a glass of wine or a wine tasting and soup. We are excited to see everyone!
X-ALT-DESC;FMTTYPE=text/html:Winegrowers Association of Georgia Wine Hwy Weekend! On Saturday\, 3/29/14\, we will be having Paul Constantine &quot\;Dr. Paul\,&quot\; performing from 2-5pm. Paul is&nbsp\;a solo\, acoustic musician/singer with a unique and powerful voice performing Country/Americana/Soul sounds. We are very excited to have him performing! Soup and free tastings are included with the purchase of your WAG Passport ($30.00). For those who choose not to purchase the Passport\, admission is $10.00 and includes a glass of wine or a wine tasting and soup.&nbsp\;We are excited to see everyone!
LOCATION:
UID:e.256.23444
SEQUENCE:3
DTSTAMP:20260424T153053Z
URL:https://members.visitblairsvillega.com/events/details/wine-hwy-weekend-at-hightower-creek-vineyards-llc-03-29-2014-23444
END:VEVENT

END:VCALENDAR
