BEGIN:VCALENDAR
VERSION:2.0
PRODID:-//ChamberMaster//Event Calendar 2.0//EN
METHOD:PUBLISH
X-PUBLISHED-TTL:P3D
REFRESH-INTERVAL:P3D
CALSCALE:GREGORIAN
BEGIN:VEVENT
DTSTART:20170326T160000Z
DTEND:20170326T210000Z
X-MICROSOFT-CDO-ALLDAYEVENT:FALSE
SUMMARY:Winegrowers Association of Georgia Wine Hwy at Hightower Creek Vineyards
DESCRIPTION:Join us for the annual Winegrower's Association Wine Highway. Due to popular demand\, the Wine Highway has been extended to 10 days\, from March 24 to April 2. Buy a passport at any participating winery for tastings\, music and more at 20 North Georgia wineries.\n\nFor more information\, visit http://www.georgiawine.com/.
X-ALT-DESC;FMTTYPE=text/html:<p>Join us for the annual Winegrower&#39\;s Association Wine Highway. Due to popular demand\, the Wine Highway has been extended to 10 days\, from March 24 to April 2. Buy a passport at any participating winery for tastings\, music and more at 20 North Georgia wineries.</p>\n\n<p>For more information\, visit&nbsp\;http://www.georgiawine.com/.</p>\n
LOCATION:7150 Canaan Drive Hiawassee\, GA 30546
UID:e.256.69077
SEQUENCE:3
DTSTAMP:20260420T043508Z
URL:https://members.visitblairsvillega.com/events/details/winegrowers-association-of-georgia-wine-hwy-at-hightower-creek-vineyards-03-26-2017-69077
END:VEVENT

END:VCALENDAR
