BEGIN:VCALENDAR
VERSION:2.0
PRODID:-//ChamberMaster//Event Calendar 2.0//EN
METHOD:PUBLISH
X-PUBLISHED-TTL:P3D
REFRESH-INTERVAL:P3D
CALSCALE:GREGORIAN
BEGIN:VEVENT
DTSTART:20160416T220000Z
DTEND:20160417T020000Z
X-MICROSOFT-CDO-ALLDAYEVENT:FALSE
SUMMARY:Winemaker Dinner with Hightower Creek Vineyards at Sylvan Valley Lodge
DESCRIPTION:Join us for an evening with Chef Rob Rotunno as he prepares a five course meal paired with five Hightower Creek Vineyards wines. Keep your eye out   more information is coming!
X-ALT-DESC;FMTTYPE=text/html:<div>\n<p>Join us for an evening with Chef Rob Rotunno as he prepares a five course meal paired with five Hightower Creek Vineyards wines. Keep your eye out &ndash\; more information is coming!</p>\n\n<div>&nbsp\;</div>\n</div>\n
LOCATION:Sylvan Valley Lodge 747 Duncan Bridge Rd Sautee Nacoochee\, GA 30571
UID:e.256.50601
SEQUENCE:3
DTSTAMP:20260421T002736Z
URL:https://members.visitblairsvillega.com/events/details/winemaker-dinner-with-hightower-creek-vineyards-at-sylvan-valley-lodge-04-16-2016-50601
END:VEVENT

END:VCALENDAR
