BEGIN:VCALENDAR
VERSION:2.0
PRODID:-//ChamberMaster//Event Calendar 2.0//EN
METHOD:PUBLISH
X-PUBLISHED-TTL:P3D
REFRESH-INTERVAL:P3D
CALSCALE:GREGORIAN
BEGIN:VEVENT
DTSTART;VALUE=DATE:20140118
DTEND;VALUE=DATE:20140119
TRANSP:TRANSPARENT
X-MICROSOFT-CDO-ALLDAYEVENT:TRUE
SUMMARY:WINERY TOUR
DESCRIPTION:WINERY TOUR SATURDAYS Every Saturday at 2:00 p.m. $25.00 per guest Have you ever wanted to see what goes on behind the scenes here at Crane Creek Vineyards? Now is your chance. Included in your purchase: a winery tour\, a full wine tasting\, souvenir wine glass\, and a cheese platter. Reservations are preferred\, but not required.
X-ALT-DESC;FMTTYPE=text/html:WINERY TOUR SATURDAYS Every Saturday at 2:00 p.m. $25.00 per guest Have you ever wanted to see what goes on behind the scenes here at Crane Creek Vineyards? Now is your chance. Included in your purchase: a winery tour\, a full wine tasting\, souvenir wine glass\, and a cheese platter. Reservations are preferred\, but not required. 
LOCATION:Crane Creek Vineyards 916 Crane Creek Rd Young Harris\, GA
UID:e.256.22076
SEQUENCE:3
DTSTAMP:20260424T182250Z
URL:https://members.visitblairsvillega.com/events/details/winery-tour-01-18-2014-22076
END:VEVENT

END:VCALENDAR
