BEGIN:VCALENDAR
VERSION:2.0
PRODID:-//ChamberMaster//Event Calendar 2.0//EN
METHOD:PUBLISH
X-PUBLISHED-TTL:P3D
REFRESH-INTERVAL:P3D
CALSCALE:GREGORIAN
BEGIN:VEVENT
DTSTART:20170201T210000Z
DTEND:20170202T020000Z
X-MICROSOFT-CDO-ALLDAYEVENT:FALSE
SUMMARY:Wing Wednesday at Cafe Portofino
DESCRIPTION:Come enjoy Wing Wednesday and Live Entertainment at Cafe Portofino
X-ALT-DESC;FMTTYPE=text/html:Come enjoy Wing Wednesday and Live Entertainment at Cafe Portofino<br />\n<br />\n&nbsp\;
LOCATION:Cafe Portofino\, Hiawassee GA
UID:e.256.52117
SEQUENCE:3
DTSTAMP:20260420T061203Z
URL:https://members.visitblairsvillega.com/events/details/wing-wednesday-at-cafe-portofino-02-01-2017-52117
END:VEVENT

END:VCALENDAR
