BEGIN:VCALENDAR
VERSION:2.0
PRODID:-//ChamberMaster//Event Calendar 2.0//EN
METHOD:PUBLISH
X-PUBLISHED-TTL:P3D
REFRESH-INTERVAL:P3D
CALSCALE:GREGORIAN
BEGIN:VEVENT
DTSTART;VALUE=DATE:20131231
DTEND;VALUE=DATE:20140101
TRANSP:TRANSPARENT
X-MICROSOFT-CDO-ALLDAYEVENT:TRUE
SUMMARY:Winter Dance Week
DESCRIPTION:Daytime classes and workshops\, dances every evening\, plus a Gala New Year's Eve Dance Party! Classes will include: Contras\, Squares\, English Country Dances\, Couple Dances\, Morris\, Rapper Sword\, Singing\,and Jam Sessions.  Winter Dance Week offers a unique combination of beautiful surroundings\, top notch callers\, teachers and musicians\, good food\, comfortable accommodations and a relaxed\, friendly atmosphere. We are limited to 90 participants with everyone dancing together much of the time. Previous contra\, English country or international folk dance experience is highly recommended. Winter Dance Week begins with supper on Wednesday\, December 26th and ends after a special southern style New Year's breakfast on January 1st. Singles and couples are both welcome. Scholarship assistance is available. Phone the office to request a scholarship application.
X-ALT-DESC;FMTTYPE=text/html:<!--StartFragment-->\n<p class="MsoNormal">\n	<span style="font-size: 13pt\; mso-bidi-font-family: arial\;">Daytime classes and workshops\, dances every evening\, plus a Gala New Year&rsquo\;s Eve Dance Party! Classes will include: Contras\, Squares\, English Country Dances\, Couple Dances\, Morris\, Rapper Sword\, Singing\,and Jam Sessions.&#8232\;&#8232\;Winter Dance Week offers a unique combination of beautiful surroundings\, top notch callers\, teachers and musicians\, good food\, comfortable accommodations and a relaxed\, friendly atmosphere. We are limited to 90 participants with everyone dancing together much of the time. Previous contra\, English country or international folk dance experience is highly recommended. Winter Dance Week begins with supper on Wednesday\, December 26th and ends after a special southern style New Year&rsquo\;s breakfast on January 1st. Singles and couples are both welcome. Scholarship assistance is available. Phone the office to request a scholarship application.<o:p></o:p></span></p>\n<!--EndFragment-->
LOCATION:John C. Campbell Folk School
UID:e.256.18516
SEQUENCE:3
DTSTAMP:20260424T194131Z
URL:https://members.visitblairsvillega.com/events/details/winter-dance-week-12-31-2013-18516
END:VEVENT

END:VCALENDAR
