BEGIN:VCALENDAR
VERSION:2.0
PRODID:-//ChamberMaster//Event Calendar 2.0//EN
METHOD:PUBLISH
X-PUBLISHED-TTL:P3D
REFRESH-INTERVAL:P3D
CALSCALE:GREGORIAN
BEGIN:VEVENT
DTSTART:20161221T230000Z
DTEND:20161222T010000Z
X-MICROSOFT-CDO-ALLDAYEVENT:FALSE
SUMMARY:Winter Solstice
DESCRIPTION:An annual event to thank our loyal CCV customers at Crane Creek where we send off the longest night with a bonfire and look forward to the coming of spring!
X-ALT-DESC;FMTTYPE=text/html:An annual event to thank our loyal CCV customers at Crane Creek where we send off the longest night with a bonfire and look forward to the coming of spring!
LOCATION:Crane Creek Vineyards 916 Crane Creek Road Young Harris\, GA 30582
UID:e.256.51260
SEQUENCE:3
DTSTAMP:20260420T111621Z
URL:https://members.visitblairsvillega.com/events/details/winter-solstice-12-21-2016-51260
END:VEVENT

END:VCALENDAR
