BEGIN:VCALENDAR
VERSION:2.0
PRODID:-//ChamberMaster//Event Calendar 2.0//EN
METHOD:PUBLISH
X-PUBLISHED-TTL:P3D
REFRESH-INTERVAL:P3D
CALSCALE:GREGORIAN
BEGIN:VEVENT
DTSTART:20171221T223000Z
DTEND:20171222T010000Z
X-MICROSOFT-CDO-ALLDAYEVENT:FALSE
SUMMARY:Winter Solstice Celebration
DESCRIPTION:As our thank you to all our loyal guests please join us for a Winter Solstice Celebration. With all our family and guests with us\, we light the bonfire to chase away the longest night of the year as winter truly begins. Complimentary chili bar and holiday sweets available to all guests. No reservations required. Wine available by the bottle or glass for purchase.
X-ALT-DESC;FMTTYPE=text/html:As our thank you to all our loyal guests please join us for a Winter Solstice Celebration. With all our family and guests with us\, we light the bonfire to chase away the longest night of the year as winter truly begins. Complimentary chili bar and holiday sweets available to all guests. No reservations required. Wine available by the bottle or glass for purchase.
LOCATION:Crane Creek Vineyards 916 Crane Creek road Young Harris\, GA 30582
UID:e.256.62225
SEQUENCE:3
DTSTAMP:20260419T120756Z
URL:https://members.visitblairsvillega.com/events/details/winter-solstice-celebration-62225
END:VEVENT

END:VCALENDAR
