BEGIN:VCALENDAR
VERSION:2.0
PRODID:-//ChamberMaster//Event Calendar 2.0//EN
METHOD:PUBLISH
X-PUBLISHED-TTL:P3D
REFRESH-INTERVAL:P3D
CALSCALE:GREGORIAN
BEGIN:VEVENT
DTSTART:20141221T230000Z
DTEND:20141222T010000Z
X-MICROSOFT-CDO-ALLDAYEVENT:FALSE
SUMMARY:Winter Solstice Celebration at Crane Creek Vineyards
DESCRIPTION:WINTER SOLSTICE CELEBRATION\n\nSunday\, December 21st\n\n6:00-8:00 PM\n\nBundle up and join us as we say goodbye to the "shortest day" with a chili bar\, libations\, and lighting of the bonfire.
X-ALT-DESC;FMTTYPE=text/html:WINTER SOLSTICE CELEBRATION<br />\nSunday\, December 21st<br />\n6:00-8:00 PM<br />\nBundle up and join us as we say goodbye to the &quot\;shortest day&quot\; with a chili bar\, libations\, and lighting of the bonfire.
LOCATION:Crane Creek Vineyards 916 Crane Creek Road Young Harris\, GA
UID:e.256.28045
SEQUENCE:3
DTSTAMP:20260424T020503Z
URL:https://members.visitblairsvillega.com/events/details/winter-solstice-celebration-at-crane-creek-vineyards-12-21-2014-28045
END:VEVENT

END:VCALENDAR
