BEGIN:VCALENDAR
VERSION:2.0
PRODID:-//ChamberMaster//Event Calendar 2.0//EN
METHOD:PUBLISH
X-PUBLISHED-TTL:P3D
REFRESH-INTERVAL:P3D
CALSCALE:GREGORIAN
BEGIN:VEVENT
DTSTART:20160908T210000Z
DTEND:20160908T223000Z
X-MICROSOFT-CDO-ALLDAYEVENT:FALSE
SUMMARY:Woman's Enrichment Center at Blairsville Galaxy Bowling
DESCRIPTION:Please come out to Blairsville Galaxy Bowling on September 8th from 5 pm- 6:30 pm to learn about the Woman's Enrichment Center.  The Center will be providing information about what they offer to our community and how you can help through this program.
X-ALT-DESC;FMTTYPE=text/html:<span style="color:rgb(34\, 34\, 34)\; font-family:arial\,sans-serif\; font-size:12.8px">Please come out to Blairsville Galaxy Bowling on&nbsp\;</span><span style="color:rgb(34\, 34\, 34)\; font-family:arial\,sans-serif\; font-size:12.8px">September 8th</span><span style="color:rgb(34\, 34\, 34)\; font-family:arial\,sans-serif\; font-size:12.8px">&nbsp\;from&nbsp\;</span><span style="color:rgb(34\, 34\, 34)\; font-family:arial\,sans-serif\; font-size:12.8px">5 pm- 6:30 pm</span><span style="color:rgb(34\, 34\, 34)\; font-family:arial\,sans-serif\; font-size:12.8px">&nbsp\;to learn about the Woman&#39\;s Enrichment Center.&nbsp\; The Center will be providing information about what they offer to our community and how you can help through this program.</span>
LOCATION:104 Backyard Lane Blairsville\, Ga 30512
UID:e.256.58119
SEQUENCE:3
DTSTAMP:20260420T145853Z
URL:https://members.visitblairsvillega.com/events/details/woman-s-enrichment-center-at-blairsville-galaxy-bowling-58119
END:VEVENT

END:VCALENDAR
