BEGIN:VCALENDAR
VERSION:2.0
PRODID:-//ChamberMaster//Event Calendar 2.0//EN
METHOD:PUBLISH
X-PUBLISHED-TTL:P3D
REFRESH-INTERVAL:P3D
CALSCALE:GREGORIAN
BEGIN:VEVENT
DTSTART:20150408T140000Z
DTEND:20150408T220000Z
X-MICROSOFT-CDO-ALLDAYEVENT:FALSE
SUMMARY:Women Painters of the Southeast
DESCRIPTION:Celebrate the talents of the Women Painters of the Southeast (WPSE)\, an organization promoting women painters whose works are representational and who live in the Southeast United States (Alabama\, Arkansas\, Florida\, Georgia\, Louisiana\, Mississippi\, North Carolina\, South Carolina\, Tennessee\, Kentucky\, Virginia and West Virginia). The Art Center is proud to host the WPSE's 3rd Annual Juried Member Exhibit.  Awards and reception will be held April 10\, 6 - 8:30pm.\n\nContact information: blueridgearts@gmail.com.
X-ALT-DESC;FMTTYPE=text/html:<span style="font-size:12pt"><span style="font-family:adobe caslon pro bold\,serif">Celebrate the talents of the </span></span><span style="font-size:12pt"><span style="font-family:adobe caslon pro bold\,serif"><span style="color:black">Women Painters of the Southeast (WPSE)\, an organization promoting women painters whose works are representational and who live in the Southeast United States (Alabama\, Arkansas\, Florida\, Georgia\, Louisiana\, Mississippi\, North Carolina\, South Carolina\, Tennessee\, Kentucky\, Virginia and West Virginia).</span></span></span><span style="font-size:12pt"><span style="font-family:adobe caslon pro bold\,serif"><span style="color:black"> The Art Center is proud to host the WPSE&rsquo\;s 3<sup>rd</sup> Annual Juried Member Exhibit.&nbsp\; <strong>Awards and reception will be held April 10\, 6 - 8:30pm</strong>.</span></span></span><br />\n<span style="font-size:12pt"><span style="font-family:adobe caslon pro bold\,serif">Contact information: blueridgearts@gmail.com.</span></span><br />\n&nbsp\;
LOCATION:The Blue Ridge Mountains Art Association/The Art Center
UID:e.256.34778
SEQUENCE:3
DTSTAMP:20260423T212436Z
URL:https://members.visitblairsvillega.com/events/details/women-painters-of-the-southeast-04-08-2015-34778
END:VEVENT

END:VCALENDAR
