BEGIN:VCALENDAR
VERSION:2.0
PRODID:-//ChamberMaster//Event Calendar 2.0//EN
METHOD:PUBLISH
X-PUBLISHED-TTL:P3D
REFRESH-INTERVAL:P3D
CALSCALE:GREGORIAN
BEGIN:VEVENT
DTSTART:20141108T150000Z
DTEND:20141108T220000Z
X-MICROSOFT-CDO-ALLDAYEVENT:FALSE
SUMMARY:Women's Expo
DESCRIPTION:Women's Expo tomorrow\, Saturday\,November 8th from 10:00 a.m. to 5:00 p.m. and Sunday\, November 9th from 12:00 -5:00 p.m. Our store will still be open on Saturday from 10:00 to 5:00 and Sunday\, from 12:00 till 4:00. ...... The Expo will be held at the Ridges in Hayesville\, NC. Just take Hwy. 64 toward Franklin. You will see the signs from there. Admission is donations which will benefit New Life Women's Center and REACH. ....... There will be many vendors with wonderful items of jewelry\, handmade soaps\, apparel and much\, much more. Of course the Green Willow J that has everything! Plus a door prize!!! ....... Don't forget ladies\, men are always welcome too. We look forward to seeing you there.
X-ALT-DESC;FMTTYPE=text/html:Women&#39\;s Expo tomorrow\, <strong>Saturday</strong>\,<strong>November 8th from 10:00 a.m. to 5:00 p.m.</strong> and <strong>Sunday\, November 9th from 12:00 -5:00 p.m.</strong> Our store will still be open on Saturday from 10:00 to 5:00 and Sunday\, from 12:00 till 4:00. ...... The Expo will be held at the Ridges in Hayesville\, NC. Just take Hwy. 64 toward Franklin. You will see the signs from there. Admission is donations which will benefit New Life Women&#39\;s Center and REACH. ....... There will be many vendors with wonderful items of jewelry\, handmade soaps\, apparel and much\, much more. Of course the Green Willow J that has everything! Plus a door prize!!! ....... Don&#39\;t forget ladies\, men are always welcome too. We look forward to seeing you there.
LOCATION:The Ridges\, Just take Hwy. 64 toward Franklin Hayesville\, NC
UID:e.256.27791
SEQUENCE:3
DTSTAMP:20260424T033506Z
URL:https://members.visitblairsvillega.com/events/details/women-s-expo-11-08-2014-27791
END:VEVENT

END:VCALENDAR
