BEGIN:VCALENDAR
VERSION:2.0
PRODID:-//ChamberMaster//Event Calendar 2.0//EN
METHOD:PUBLISH
X-PUBLISHED-TTL:P3D
REFRESH-INTERVAL:P3D
CALSCALE:GREGORIAN
BEGIN:VEVENT
DTSTART:20140314T153000Z
DTEND:20140314T173000Z
X-MICROSOFT-CDO-ALLDAYEVENT:FALSE
SUMMARY:Word 2010 Tips and Tricks
DESCRIPTION:Word 2010 Tips and Tricks\n\n\n\nPresented by Cecilia Crawford of Firm Answers Now\n\n\n\nKnowing Microsoft Word is a must in helping you manage your business. This 2-hr seminar will cover a variety of topics to help participants use MS Word 2010 more efficiently. Tips and features to be covered include: creating and working with tables\, graphics\, using styles\, creating and formatting sections and page breaks\, headers and footers\, and tracking changes. Please note that a basic understanding of Word is needed for this seminar.
X-ALT-DESC;FMTTYPE=text/html:<span style="font-family: arial\;"><span style="font-size: 10pt\;"><strong>Word 2010 Tips and Tricks</strong></span><br />\n<br />\n<span style="font-size: 10pt\;">Presented by Cecilia Crawford of <font size="2">Firm Answers Now</font></span><br />\n<br />\n<span style="font-size: 10pt\;">Knowing Microsoft Word is a must in helping you manage your business. This 2-hr seminar will cover a variety of topics to help participants use MS Word 2010 more efficiently. Tips and features to be covered include: creating and working with tables\, graphics\, using styles\, creating and formatting sections and page breaks\, headers and footers\, and tracking changes. Please note that a basic understanding of Word is needed for this seminar.</span></span><br />\n&nbsp\;
LOCATION:Union County Community Center 129 Union County Rec Road Blairsville\, GA The View Grill Union County Community Center 129 Union County Rec Rd Blairsville\, GA - See more at: http://members.visitblairsvillega.com/events/details/firm-answers-now-22933#sthash.tKqjnZcs.dpuf The View Grill Union County Community Center 129 Union County Rec Rd Blairsville\, GA - See more at: http://members.visitblairsvillega.com/events/details/firm-answers-now-22933#sthash.tKqjnZcs.dpuf
UID:e.256.22942
SEQUENCE:3
DTSTAMP:20260424T151947Z
URL:https://members.visitblairsvillega.com/events/details/word-2010-tips-and-tricks-03-14-2014-22942
END:VEVENT

END:VCALENDAR
