BEGIN:VCALENDAR
VERSION:2.0
PRODID:-//ChamberMaster//Event Calendar 2.0//EN
METHOD:PUBLISH
X-PUBLISHED-TTL:P3D
REFRESH-INTERVAL:P3D
CALSCALE:GREGORIAN
BEGIN:VEVENT
DTSTART:20151008T140000Z
DTEND:20151008T190000Z
X-MICROSOFT-CDO-ALLDAYEVENT:FALSE
SUMMARY:Workforce Development
DESCRIPTION:Georgia Mountains Regional Commission's Workforce Development Career Coach is visiting the Saint Francis of Assisi Church. \n\n We will be helping area residents search & apply for jobs\, write resumes & cover letters\, and discern their career interests. We will also be providing information about tuition assistance & on-the-job training programs.
X-ALT-DESC;FMTTYPE=text/html:<span style="font-size: 12pt\;"><span style="font-family: calisto mt\,serif\;"><span style="color: black\;">Georgia Mountains Regional Commission&rsquo\;s Workforce Development Career Coach is visiting the Saint Francis of Assisi Church.&nbsp\;</span></span></span><br />\n&nbsp\;<span style="font-size: 12pt\;"><span style="font-family: calisto mt\,serif\;"><span style="color: black\;">We will be helping area residents search &amp\; apply for jobs\, write resumes &amp\; cover letters\, and discern their career interests. We will also be providing information about tuition assistance &amp\; on-the-job training programs.</span></span></span><br />\n&nbsp\;<br />\n&nbsp\;
LOCATION:The church is located at 3717 Highway 515 East in Blairsville\, Georgia.
UID:e.256.44243
SEQUENCE:3
DTSTAMP:20260423T102236Z
URL:https://members.visitblairsvillega.com/events/details/workforce-development-10-08-2015-44243
END:VEVENT

END:VCALENDAR
