BEGIN:VCALENDAR
VERSION:2.0
PRODID:-//ChamberMaster//Event Calendar 2.0//EN
METHOD:PUBLISH
X-PUBLISHED-TTL:P3D
REFRESH-INTERVAL:P3D
CALSCALE:GREGORIAN
BEGIN:VEVENT
DTSTART:20160411T140000Z
DTEND:20160411T180000Z
X-MICROSOFT-CDO-ALLDAYEVENT:FALSE
SUMMARY:Workforce Development Career Coach
DESCRIPTION:We will be helping students search & apply for jobs\, write resumes & cover letters\, and discern their career interests. We will also be providing information about tuition assistance & on-the-job training programs.
X-ALT-DESC;FMTTYPE=text/html:<span style="font-size: 12pt\;"><span style="font-family: calisto mt\,serif\;"><span style="color: black\;">We will be helping students search &amp\; apply for jobs\, write resumes &amp\; cover letters\, and discern their career interests. We will also be providing information about tuition assistance &amp\; on-the-job training programs.</span></span></span><br />\n&nbsp\;
LOCATION:North Georgia Technical College's Blairsville Campus 121 Meeks Avenue Blairsville\, Georgia.
UID:e.256.50665
SEQUENCE:3
DTSTAMP:20260421T001842Z
URL:https://members.visitblairsvillega.com/events/details/workforce-development-career-coach-04-11-2016-50665
END:VEVENT

END:VCALENDAR
