BEGIN:VCALENDAR
VERSION:2.0
PRODID:-//ChamberMaster//Event Calendar 2.0//EN
METHOD:PUBLISH
X-PUBLISHED-TTL:P3D
REFRESH-INTERVAL:P3D
CALSCALE:GREGORIAN
BEGIN:VEVENT
DTSTART:20170624T140000Z
DTEND:20170624T200000Z
X-MICROSOFT-CDO-ALLDAYEVENT:FALSE
SUMMARY:Workshop – The Isaacs MusicationNation
DESCRIPTION:Join the multiple award-winning Isaacs family for a weekend of music\, education\, inspiration and just plain fun. For the first time ever\, the Isaacs will present two days of informative workshops on songwriting\, professional musicianship and entertainment in a series of formal and in-formal workshops and classes in an up close and personal one-on-one setting. Bring your banjo\, guitar\, fiddle and any other instrument you enjoy and be prepared to play and sing along with the Isaacs and fellow attendees. Two great days of spectacular opportunity and excitement topped off with evening concerts. For anyone who loves playing\, singing and having a great time with fellow music lovers. 10am-11am: Morning Devotions & Sharing Life Stories with Lily Issacs\, Including Selections From Her Autobiography\, "You Don't Cry Out Loud" 11:15am-12:30pm: Teay's Valley Cooking Class with a Question & Answer Time with the Isaacs 12:30pm-1:30pm: Lunch Break (lunch delivery to venue is available for ordering) 2pm-4pm: FAN JAM Session with the Isaacs & Mountain Faith Band (contact the theatre box office at 828-524-1598 to register to participate as a singer or musician) 4pm: Dinner Break Before the Evening Concert
X-ALT-DESC;FMTTYPE=text/html:Join the multiple award-winning Isaacs family for a weekend of music\, education\, inspiration and just plain fun. For the first time ever\, the Isaacs will present two days of informative workshops on songwriting\, professional musicianship and entertainment in a series of formal and in-formal workshops and classes in an up close and personal one-on-one setting. Bring your banjo\, guitar\, fiddle and any other instrument you enjoy and be prepared to play and sing along with the Isaacs and fellow attendees. Two great days of spectacular opportunity and excitement topped off with evening concerts. For anyone who loves playing\, singing and having a great time with fellow music lovers. 10am-11am: Morning Devotions &amp\; Sharing Life Stories with Lily Issacs\, Including Selections From Her Autobiography\, &quot\;You Don&#39\;t Cry Out Loud&quot\; 11:15am-12:30pm: Teay&#39\;s Valley Cooking Class with a Question &amp\; Answer Time with the Isaacs 12:30pm-1:30pm: Lunch Break (lunch delivery to venue is available for ordering) 2pm-4pm: FAN JAM Session with the Isaacs &amp\; Mountain Faith Band (contact the theatre box office at 828-524-1598 to register to participate as a singer or musician) 4pm: Dinner Break Before the Evening Concert
LOCATION:Smoky Mountain Center for the Performing Arts 1028 Georgia Road Franklin\, NC 28734
UID:e.256.69055
SEQUENCE:3
DTSTAMP:20260419T232217Z
URL:https://members.visitblairsvillega.com/events/details/workshop-the-isaacs-musicationnation-06-24-2017-69055
END:VEVENT

END:VCALENDAR
