BEGIN:VCALENDAR
VERSION:2.0
PRODID:-//ChamberMaster//Event Calendar 2.0//EN
METHOD:PUBLISH
X-PUBLISHED-TTL:P3D
REFRESH-INTERVAL:P3D
CALSCALE:GREGORIAN
BEGIN:VEVENT
DTSTART:20170623T140000Z
DTEND:20170623T210000Z
X-MICROSOFT-CDO-ALLDAYEVENT:FALSE
SUMMARY:Workshop – The Isaacs MusicationNation
DESCRIPTION:Join the multiple award-winning Isaacs family for a weekend of music\, education\, inspiration and just plain fun. For the first time ever\, the Isaacs will present two days of informative workshops on songwriting\, professional musicianship and entertainment in a series of formal and in-formal workshops and classes in an up close and personal one-on-one setting. Bring your banjo\, guitar\, fiddle and any other instrument you enjoy and be prepared to play and sing along with the Isaacs and fellow attendees. Two great days of spectacular opportunity and excitement topped off with evening concerts. For anyone who loves playing\, singing and having a great time with fellow music lovers. 10 am-11am: Morning Devotions with Becky Bowman 11:15 am-12:15 pm: Live Sound and Recording Session with Mark Capps & Ben Isaacs 12:15 pm-1:30 pm: Lunch Break (lunch delivery to venue is available for ordering) 1:30 pm-3:00 pm: Teay's Valley Cooking Class & Question and Answer Time with the Isaacs 3:15 pm-4:15 pm: Stories Behind the Songs with Becky Isaacs Bowman & Sonya Isaacs Yeary 5:00 pm: Dinner Break Before the Evening Concert
X-ALT-DESC;FMTTYPE=text/html:Join the multiple award-winning Isaacs family for a weekend of music\, education\, inspiration and just plain fun. For the first time ever\, the Isaacs will present two days of informative workshops on songwriting\, professional musicianship and entertainment in a series of formal and in-formal workshops and classes in an up close and personal one-on-one setting. Bring your banjo\, guitar\, fiddle and any other instrument you enjoy and be prepared to play and sing along with the Isaacs and fellow attendees. Two great days of spectacular opportunity and excitement topped off with evening concerts. For anyone who loves playing\, singing and having a great time with fellow music lovers. 10 am-11am: Morning Devotions with Becky Bowman 11:15 am-12:15 pm: Live Sound and Recording Session with Mark Capps &amp\; Ben Isaacs 12:15 pm-1:30 pm: Lunch Break (lunch delivery to venue is available for ordering) 1:30 pm-3:00 pm: Teay&#39\;s Valley Cooking Class &amp\; Question and Answer Time with the Isaacs 3:15 pm-4:15 pm: Stories Behind the Songs with Becky Isaacs Bowman &amp\; Sonya Isaacs Yeary 5:00 pm: Dinner Break Before the Evening Concert
LOCATION:Smoky Mountain Center for the Performing Arts 1028 Georgia Road Franklin\, NC 28734
UID:e.256.69053
SEQUENCE:3
DTSTAMP:20260419T231930Z
URL:https://members.visitblairsvillega.com/events/details/workshop-the-isaacs-musicationnation-69053
END:VEVENT

END:VCALENDAR
